BEGIN:VCALENDAR
VERSION:2.0
PRODID:-//David and Ale//NONSGML kigkonsult.se iCalcreator 2.30.10//
CALSCALE:GREGORIAN
METHOD:PUBLISH
UID:c6a981ae-472f-4889-bad1-7ca30a8def2e
X-WR-CALNAME:iCagenda
X-WR-CALDESC:Event Management Extension for Joomla!
X-WR-RELCALID:3E26604A-50F4-4449-8B3E-E4F4932D05B5
X-WR-TIMEZONE:UTC
BEGIN:VTIMEZONE
TZID:UTC
END:VTIMEZONE
BEGIN:VEVENT
UID:14a7dbaa-452a-46c8-bd3b-7da4a968d37b
DTSTAMP:20260420T163625Z
CATEGORIES:Wedding
CLASS:PUBLIC
DESCRIPTION:
DTSTART:20230507T170000Z
DTEND:20230507T170000Z
GEO:-33.618248;-70.721512
LOCATION:Centro de Eventos El Barrancón
ORGANIZER:
SEQUENCE:1
SUMMARY:Wedding reception
TRANSP:OPAQUE
URL:https://davidandale.ca/index.php/en/component/icagenda/2-reception/2023
 -05-07-17-00?Itemid=105
END:VEVENT
END:VCALENDAR
